BEGIN:VCALENDAR
BEGIN:VEVENT
SUMMARY:Lumberob Presents: K. Porcelain\, ID M Theft Able\, Endless Arrows
 \, Bugger\, Abazita\, Lumberob\, DJ TNT [nycnoise]
DTSTART:20260104T003000Z
DTEND:20260104T013000Z
UID:0bc4b9b9-3fcd-41cf-86ed-45e51539cb77
CREATED:20260425T164932Z
DESCRIPTION:if you go to this\, tell id m theft able that i'm finally clea
 ring up some laptop / phone space &amp\; will send him video of his killin
 g sunview performance very soon!! always so fuckin excellent
LOCATION:baker falls (192 Allen St\, New York\, NY 10002)
END:VEVENT
END:VCALENDAR
