BEGIN:VCALENDAR
BEGIN:VEVENT
SUMMARY:Rare Frequency Transmissions: Bergsonist\, Dynoman\, Relaxer\, Zar
 a Dekho [nycnoise]
DTSTART:20260102T030000Z
DTEND:20260102T040000Z
UID:115f4e17-1c0a-4b33-a136-3232d98365e2
CREATED:20260425T165143Z
DESCRIPTION:
LOCATION:bossa nova civic club (1271 myrtle ave\, brooklyn)
END:VEVENT
END:VCALENDAR
