BEGIN:VCALENDAR
BEGIN:VEVENT
SUMMARY:La voix humaine\, Day #1/2: Jamila Drecker Waxman\, Danny Weber\, 
 E. Lieu Woldhardt\, Maddie Rubin-Charlesworth\, Mila Zidel\, Kira Weaver [
 nycnoise]
DTSTART:20260102T230000Z
DTEND:20260103T000000Z
UID:cb2071c2-a5fc-4297-b20b-cc4ff5dbdb91
CREATED:20260425T165042Z
DESCRIPTION:+ insta
LOCATION:brooklyn center for theatre research (251 Huron St\, Brooklyn\, N
 Y 11222)
END:VEVENT
END:VCALENDAR
