BEGIN:VCALENDAR
BEGIN:VEVENT
SUMMARY:Ben Wendel Ensemble: Reimagine\, Night #2/2 [nycnoise]
DTSTART:20260131T000000Z
DTEND:20260131T010000Z
UID:d4ce081f-2fc9-40c1-b7d0-f620ffe73d20
CREATED:20260425T165004Z
DESCRIPTION:BW w/ Taylor Eigsti\, Jason Lindner\, Gilad Hekselman\, Harish
  Raghavan\, Nate Wood
LOCATION:loove annex (238 N 12th St\, Brooklyn\, NY 11211)
END:VEVENT
END:VCALENDAR
