BEGIN:VCALENDAR
BEGIN:VEVENT
SUMMARY:Pop Music Fever Dream presents Tim's 29th Bday & Benefit for Viole
 tte Grim: Bruiser and Bicycle\, PMFD Karaoke Set\, [unintelligible screami
 ng] (drag)\, Laveda\, Caitlin Starr\, DJ SRB [nycnoise]
DTSTART:20260118T010000Z
DTEND:20260118T020000Z
UID:9b61a06f-a107-4e87-ab41-bdf5f09d8588
CREATED:20260425T165303Z
DESCRIPTION:
LOCATION:wonderville (1186 broadway\, brooklyn)
END:VEVENT
END:VCALENDAR
