BEGIN:VCALENDAR
BEGIN:VEVENT
SUMMARY:BK Experimental Electronic: Olivia Mancuso\, Videopunks\, Nocturna
 lmelodic\, 5tok3\, Ian Ford (DJ) [nycnoise]
DTSTART:20260123T000000Z
DTEND:20260123T010000Z
UID:2d992c18-cc56-4e56-8dfc-fbf82eab52fc
CREATED:20260425T165144Z
DESCRIPTION:organized by Metamyther
LOCATION:wonderville (1186 broadway\, brooklyn)
END:VEVENT
END:VCALENDAR
