BEGIN:VCALENDAR
BEGIN:VEVENT
SUMMARY:False Starts\, Revenge Bodies\, Sub Rosa\, Highlighter Rabies [nyc
 noise]
DTSTART:20260111T220000Z
DTEND:20260111T230000Z
UID:13e6ac9d-f776-4d04-b8f0-927e0231d8f9
CREATED:20260425T165143Z
DESCRIPTION:
LOCATION:p.i.t. (property is theft) (411 s. 5th st.\, brooklyn)
END:VEVENT
END:VCALENDAR
