BEGIN:VCALENDAR
BEGIN:VEVENT
SUMMARY:Outlier Presents: The Ghost (Michael Foster\, John Moran\, Joey Su
 llivan): Trio & Quartet w/ Zach Rowden [nycnoise]
DTSTART:20260119T000000Z
DTEND:20260119T010000Z
UID:f63ee92e-87ca-4280-8e5e-17cc14030a81
CREATED:20260425T164726Z
DESCRIPTION:full lineup insta
LOCATION:p.i.t. (property is theft) (411 s. 5th st.\, brooklyn)
END:VEVENT
END:VCALENDAR
