BEGIN:VCALENDAR
BEGIN:VEVENT
SUMMARY:TJ Borden & Vinny Golia\, Gleb Kanasevich\, Erica Dicker [nycnoise
 ]
DTSTART:20260113T003000Z
DTEND:20260113T013000Z
UID:2a98f6b2-aae8-4f8d-a173-01d24ef98c64
CREATED:20260425T165303Z
DESCRIPTION:GK on "clarinet &amp\; square waves\," full lineup via email
LOCATION:record shop (360 van brunt st.\, brooklyn)
END:VEVENT
END:VCALENDAR
