BEGIN:VCALENDAR
BEGIN:VEVENT
SUMMARY:Jon Irabagon / Nate Wooley / Aaron Rubinstein / Kevin Murray [nycn
 oise]
DTSTART:20260225T003000Z
DTEND:20260225T013000Z
UID:5a5b1fa4-e71c-4790-b308-cdb6dfb79706
CREATED:20260425T145108Z
DESCRIPTION:confirming full lineup asap
LOCATION:record shop (360 van brunt st.\, brooklyn)
END:VEVENT
END:VCALENDAR
