BEGIN:VCALENDAR
BEGIN:VEVENT
SUMMARY:Eyal Maoz Band - revisiting Lemon Juice Quartet (ft. Shoko Nagai\,
  Shanir Blumenkranz\, Kevin Zubek) [nycnoise]
DTSTART:20260119T000000Z
DTEND:20260119T010000Z
UID:3b40b8a7-f22c-458e-82f0-3cbd8ec4dd9d
CREATED:20260425T164808Z
DESCRIPTION:
LOCATION:big bar (75 E 7th St\, New York\, NY 10003)
END:VEVENT
END:VCALENDAR
