BEGIN:VCALENDAR
BEGIN:VEVENT
SUMMARY:Striped Light presents: C. Spencer Yeh & Kwami Winfield\, Gryphon 
 Rue & Sean Meehan\, Shoko Nagai & David Watson [nycnoise]
DTSTART:20260113T010000Z
DTEND:20260113T020000Z
UID:d03c0578-09bc-4d4b-b328-27254d351078
CREATED:20260425T165039Z
DESCRIPTION:7:30pm doors
LOCATION:striped light
END:VEVENT
END:VCALENDAR
