BEGIN:VCALENDAR
BEGIN:VEVENT
SUMMARY:Jeff Davis Band\, Choir Invisible [nycnoise]
DTSTART:20260115T010000Z
DTEND:20260115T020000Z
UID:3acd8ca3-0573-447c-955a-6f4b91bc8600
CREATED:20260425T164932Z
DESCRIPTION:
LOCATION:threes brewing (333 douglass st.\, brooklyn)
END:VEVENT
END:VCALENDAR
