BEGIN:VCALENDAR
BEGIN:VEVENT
SUMMARY:Sunjae Lee Trio & Quartet (w/ DoYeon Kim\, Brandon Lopez\, Peter E
 vans\, Gervis Myles\, Kayvon Gordon) [nycnoise]
DTSTART:20260121T010000Z
DTEND:20260121T020000Z
UID:0ba06938-c143-4288-90b7-9cf0c344ab82
CREATED:20260425T164808Z
DESCRIPTION:
LOCATION:threes brewing (333 douglass st.\, brooklyn)
END:VEVENT
END:VCALENDAR
