BEGIN:VCALENDAR
BEGIN:VEVENT
SUMMARY:Trax Unit\, TONI BA\, BLAIZE [nycnoise]
DTSTART:20260104T030000Z
DTEND:20260104T040000Z
UID:e6fb69da-8cae-41de-b580-656ac9432f73
CREATED:20260425T165004Z
DESCRIPTION:
LOCATION:bossa nova civic club (1271 myrtle ave\, brooklyn)
END:VEVENT
END:VCALENDAR
