BEGIN:VCALENDAR
BEGIN:VEVENT
SUMMARY:Sorry Records: Love Letters b2b Shyboi\, Nick Boyd [nycnoise]
DTSTART:20260105T030000Z
DTEND:20260105T040000Z
UID:483d4c26-28cc-4aad-ae45-6427952a6f0d
CREATED:20260425T164932Z
DESCRIPTION:
LOCATION:bossa nova civic club (1271 myrtle ave\, brooklyn)
END:VEVENT
END:VCALENDAR
