BEGIN:VCALENDAR
BEGIN:VEVENT
SUMMARY:Auditory Affair: Diana's FFS Recovery Fundraiser [nycnoise]
DTSTART:20260106T030000Z
DTEND:20260106T040000Z
UID:4be4fed0-8a5b-4f08-8dbb-1efe09860c5f
CREATED:20260425T165040Z
DESCRIPTION:Beard (Kiss Kiss b2b Scruff Angel)\, FEMALE (maenad b2b Zeigle
 r)\, Will Jack b2b Giovannii\, FAE FATALE (Xana 101 b2b SELENE)\, LARVALOI
 D (punkal0id b2b L4RV4)
LOCATION:bossa nova civic club (1271 myrtle ave\, brooklyn)
END:VEVENT
END:VCALENDAR
