BEGIN:VCALENDAR
BEGIN:VEVENT
SUMMARY:DJ Healthy\, Kiitsu\, Kudzu Audio\, Mariposa [nycnoise]
DTSTART:20260108T030000Z
DTEND:20260108T040000Z
UID:57149ebd-6b38-4c54-b70b-2f5447f435e2
CREATED:20260425T165003Z
DESCRIPTION:
LOCATION:bossa nova civic club (1271 myrtle ave\, brooklyn)
END:VEVENT
END:VCALENDAR
