BEGIN:VCALENDAR
BEGIN:VEVENT
SUMMARY:5th Quarter: bossy boots\, DJ Lita\, Preacher's Daughter\, *Astrik
 s b2b Patsy\, FKASiggs b2b simcoe [nycnoise]
DTSTART:20260109T030000Z
DTEND:20260109T040000Z
UID:280d7c17-5d8a-4625-9b1a-19cb2df3053d
CREATED:20260425T164846Z
DESCRIPTION:🌀 free before 11pm
LOCATION:bossa nova civic club (1271 myrtle ave\, brooklyn)
END:VEVENT
END:VCALENDAR
