BEGIN:VCALENDAR
BEGIN:VEVENT
SUMMARY:Orchidance 007: e-Lite\, Grace Sands\, Systems of Care (estro b2b 
 surgery) [nycnoise]
DTSTART:20260112T030000Z
DTEND:20260112T040000Z
UID:c165007c-34dd-4c90-96e8-f5bf27829f77
CREATED:20260425T165005Z
DESCRIPTION:
LOCATION:bossa nova civic club (1271 myrtle ave\, brooklyn)
END:VEVENT
END:VCALENDAR
