BEGIN:VCALENDAR
BEGIN:VEVENT
SUMMARY:KI-HOLE: DJ Sour\, Gagbert\, SEXINCHURCH\, bounce kisses\, Sudden 
 Death (Nymphostar b2b &more)\, KI-HOLE (SELENE b2b L4RV4) [nycnoise]
DTSTART:20260114T030000Z
DTEND:20260114T040000Z
UID:43339af1-00a8-422c-82d0-4fccbc17fc84
CREATED:20260425T165144Z
DESCRIPTION:"Fundraising for Mimz aka DJ Hound"
LOCATION:bossa nova civic club (1271 myrtle ave\, brooklyn)
END:VEVENT
END:VCALENDAR
