BEGIN:VCALENDAR
BEGIN:VEVENT
SUMMARY:Illegal Rhythm presents Women Rhythm: Annie Lew\, KXAH\, Nymph [ny
 cnoise]
DTSTART:20260116T030000Z
DTEND:20260116T040000Z
UID:a6e301d8-bb39-49bb-8e76-66266a055041
CREATED:20260425T165003Z
DESCRIPTION:
LOCATION:bossa nova civic club (1271 myrtle ave\, brooklyn)
END:VEVENT
END:VCALENDAR
