BEGIN:VCALENDAR
BEGIN:VEVENT
SUMMARY:Lifesavers 028: Antenes b2b Nutrition Facts\, zi!\, otodojo [nycno
 ise]
DTSTART:20260117T030000Z
DTEND:20260117T040000Z
UID:8ec78fcc-23de-4e14-b097-bdc44f87df43
CREATED:20260425T165006Z
DESCRIPTION:
LOCATION:bossa nova civic club (1271 myrtle ave\, brooklyn)
END:VEVENT
END:VCALENDAR
