BEGIN:VCALENDAR
BEGIN:VEVENT
SUMMARY:Angel Arias presents Temptation: Memphy\, Dangerous Rose\, Swimmie
  [nycnoise]
DTSTART:20260118T030000Z
DTEND:20260118T040000Z
UID:8bfb8c0b-87e7-40ab-91ed-622bac3c9574
CREATED:20260425T164809Z
DESCRIPTION:🌀 free before 11pm
LOCATION:bossa nova civic club (1271 myrtle ave\, brooklyn)
END:VEVENT
END:VCALENDAR
