BEGIN:VCALENDAR
BEGIN:VEVENT
SUMMARY:Black2Black: Luna b2b Punkaloid\, Feonix b2b Tyjah\, Sexinchurch b
 2b Solar [nycnoise]
DTSTART:20260120T030000Z
DTEND:20260120T040000Z
UID:7ff43509-72d2-47ad-afea-84f05fbefa42
CREATED:20260425T165302Z
DESCRIPTION:
LOCATION:bossa nova civic club (1271 myrtle ave\, brooklyn)
END:VEVENT
END:VCALENDAR
