BEGIN:VCALENDAR
BEGIN:VEVENT
SUMMARY:Kinetics: DJTBD\, DJ Deadname b2b Surgery\, Cyclo Bonette\, microf
 ossil [nycnoise]
DTSTART:20260129T030000Z
DTEND:20260129T040000Z
UID:c7c4f104-d5ec-4549-90d4-a85d671228a2
CREATED:20260425T165003Z
DESCRIPTION:
LOCATION:bossa nova civic club (1271 myrtle ave\, brooklyn)
END:VEVENT
END:VCALENDAR
