BEGIN:VCALENDAR
BEGIN:VEVENT
SUMMARY:Autumn Knight: 'NOTHING: more' (w/ Kaylah Farrish\, Dominica Green
 e\, Jasmine Hearn)\, Night #1/3 [nycnoise]
DTSTART:20260117T000000Z
DTEND:20260117T010000Z
UID:3128fbd5-fe9b-4dd1-a4da-ec24ea12eff6
CREATED:20260425T165141Z
DESCRIPTION:
LOCATION:chocolate factory theater (38-33 24th st.\, long island city)
END:VEVENT
END:VCALENDAR
