BEGIN:VCALENDAR
BEGIN:VEVENT
SUMMARY:Autumn Knight: 'NOTHING: more' (w/ Kaylah Farrish\, Dominica Green
 e\, Jasmine Hearn)\, Night #2/3 [nycnoise]
DTSTART:20260118T000000Z
DTEND:20260118T010000Z
UID:3f22e84e-79b7-4b4d-ba23-9f2104ff3678
CREATED:20260425T164847Z
DESCRIPTION:
LOCATION:chocolate factory theater (38-33 24th st.\, long island city)
END:VEVENT
END:VCALENDAR
