BEGIN:VCALENDAR
BEGIN:VEVENT
SUMMARY:Autumn Knight: 'NOTHING: more' (w/ Kaylah Farrish\, Dominica Green
 e\, Jasmine Hearn)\, Night #3/3 [nycnoise]
DTSTART:20260119T000000Z
DTEND:20260119T010000Z
UID:d8a7e605-4f22-4bb0-862d-fae3fbb0fdec
CREATED:20260425T165142Z
DESCRIPTION:
LOCATION:chocolate factory theater (38-33 24th st.\, long island city)
END:VEVENT
END:VCALENDAR
