BEGIN:VCALENDAR
BEGIN:VEVENT
SUMMARY:dance practice (a dancefloor meditation): Star Mitchell\, Niyah We
 st [nycnoise]
DTSTART:20260108T010000Z
DTEND:20260108T020000Z
UID:0cddebb6-a645-496e-9d92-3cf203f59f9c
CREATED:20260425T165142Z
DESCRIPTION:7:30pm doors\, "begins with a group instruction on mindful mov
 ement &amp\; body awareness"\; 🧣 dress warm
LOCATION:light & sound design
END:VEVENT
END:VCALENDAR
