BEGIN:VCALENDAR
BEGIN:VEVENT
SUMMARY:Solstice Soak: Eden Aurelius\, Bookworms\, Solpara + DJs Yibing b2
 b M. Hepworth\, Sabrout b2b Tiny T.Bone\, Saffron Bloom [nycnoise]
DTSTART:20260117T000000Z
DTEND:20260117T010000Z
UID:38ce39d2-c4c1-4b28-829a-80813276a554
CREATED:20260425T164846Z
DESCRIPTION:🧣 dress warm\; art installations by Color Theory\, tabling 
 by NY Cultural Society Project
LOCATION:light & sound design
END:VEVENT
END:VCALENDAR
