BEGIN:VCALENDAR
BEGIN:VEVENT
SUMMARY:Good Grief: Merope (w/ Shahzad Ismaily)\, QOA\, Primeiro\, Fedra (
 DJ) [nycnoise]
DTSTART:20260123T230000Z
DTEND:20260124T000000Z
UID:8925048b-0873-4d0c-a920-32f7dcf99016
CREATED:20260425T165003Z
DESCRIPTION:🧣 dress warm
LOCATION:light & sound design
END:VEVENT
END:VCALENDAR
