BEGIN:VCALENDAR
BEGIN:VEVENT
SUMMARY:Fuck Fest | No Wave & Beyond: Figure of Fun\, Joseph Keckler\, Sub
 urban Speed\, Matthew J. Hutchinson\, TDA (w/ Bob Bert & spectral guest De
 thRok)\, Avishag Rodrigues [nycnoise]
DTSTART:20260111T013000Z
DTEND:20260111T023000Z
UID:cfd4a07e-f1aa-4a7d-bc73-ce5f533ae6f4
CREATED:20260425T164932Z
DESCRIPTION:8pm doors
LOCATION:main drag (50 s. 1st st.\, brooklyn)
END:VEVENT
END:VCALENDAR
