BEGIN:VCALENDAR
BEGIN:VEVENT
SUMMARY:Movement Research: NAKA Dance Theater\, Jody Oberfeler Projects\, 
 Symara Sarai [nycnoise]
DTSTART:20260113T000000Z
DTEND:20260113T010000Z
UID:62e72991-cc95-415e-af75-813ceb49cfb0
CREATED:20260425T165303Z
DESCRIPTION:"event includes auditive guidance"
LOCATION:movement research at judson (55 washington sq south\, manhattan)
END:VEVENT
END:VCALENDAR
