BEGIN:VCALENDAR
BEGIN:VEVENT
SUMMARY:Movement Research: Ellen Söderhult\, Jelena Alempijević\, Jian Y
 i\, Margareta Firinger [nycnoise]
DTSTART:20260127T000000Z
DTEND:20260127T010000Z
UID:59bdf435-49d8-4d7f-be73-54c460851375
CREATED:20260425T164847Z
DESCRIPTION:"event includes auditive guidance"
LOCATION:movement research at judson (55 washington sq south\, manhattan)
END:VEVENT
END:VCALENDAR
