BEGIN:VCALENDAR
BEGIN:VEVENT
SUMMARY:Will Epstein (Album Release)\, Alan Licht [nycnoise]
DTSTART:20260114T000000Z
DTEND:20260114T010000Z
UID:6cfcfde3-1b03-4ffb-a4bc-7026f264592b
CREATED:20260425T165040Z
DESCRIPTION:6:30pm doors
LOCATION:night club 101 (101 avenue a\, manhattan)
END:VEVENT
END:VCALENDAR
