BEGIN:VCALENDAR
BEGIN:VEVENT
SUMMARY:Guyscrapers\, Billy Plastered\, Darlin' [nycnoise]
DTSTART:20260116T023000Z
DTEND:20260116T033000Z
UID:88c0b8bb-90bf-4735-ab2c-292f5e056687
CREATED:20260425T164847Z
DESCRIPTION:checkin asap to see if it's wendy/ryan/lester darlin'
LOCATION:night club 101 (101 avenue a\, manhattan)
END:VEVENT
END:VCALENDAR
