BEGIN:VCALENDAR
BEGIN:VEVENT
SUMMARY:Body Hack: ARCHANGEL\, Cisne\, Jasmine Infiniti\, CMD+JAZMINE b2b 
 Petal\, S'aint Panic [nycnoise]
DTSTART:20260130T010000Z
DTEND:20260130T020000Z
UID:6932efce-a9f5-4754-90f7-5b8937e97269
CREATED:20260425T165041Z
DESCRIPTION:🇵🇸 PACBI (body hack) // "raising funds for Colectivo Int
 ercultural TRANSgrediendo" + 🌀 "No Black Trans Person Will Ever Be Turn
 ed Away For Lack Of Funds"
LOCATION:nowadays (56-06 cooper ave\, ridgewood)
END:VEVENT
END:VCALENDAR
