BEGIN:VCALENDAR
BEGIN:VEVENT
SUMMARY:Fire Over Heaven: Music for Microtonal Rhodes: Ka Baird\, Henry Bi
 rdsey\, Che Chen / Talice Lee / Barry Weisblat\, Ian Douglas-Moore [nycnoi
 se]
DTSTART:20260123T010000Z
DTEND:20260123T020000Z
UID:59383015-08cc-432c-9a1b-693328f904bd
CREATED:20260425T165142Z
DESCRIPTION:7:30pm doors\; ~2018 "Chen put the [Fender] Rhodes into a Just
  Intonation tuning he describes as 'a mathematical found object\, closer t
 o the language of gongs than keyboards'"
LOCATION:outpost artists resources (1665 norman st.\, ridgewood)
END:VEVENT
END:VCALENDAR
