BEGIN:VCALENDAR
BEGIN:VEVENT
SUMMARY:WJF: Melvin Gibbs\, Cochemea\, MAE.SUN\, Ruly Herrera\, Next Jazz 
 Legacy [nycnoise]
DTSTART:20260112T000000Z
DTEND:20260112T010000Z
UID:b40e1e90-a0c6-4b21-9462-ca0ae608eadc
CREATED:20260425T164847Z
DESCRIPTION:6:30pm doors
LOCATION:nublu 151 (151 ave c\, manhattan)
END:VEVENT
END:VCALENDAR
