BEGIN:VCALENDAR
BEGIN:VEVENT
SUMMARY:Paradiso: Kevin Saunderson\, Todd Terry\, Kilopatrah Jones + Concr
 ete Husband\, KXAH [nycnoise]
DTSTART:20260110T023000Z
DTEND:20260110T033000Z
UID:a53f2267-8787-4828-bf66-c0ac509b6124
CREATED:20260425T164846Z
DESCRIPTION:
LOCATION:paragon (990 broadway\, brooklyn)
END:VEVENT
END:VCALENDAR
