BEGIN:VCALENDAR
BEGIN:VEVENT
SUMMARY:Pressure: Black Rave Culture b2b DJ SWISHA\, WTCHCRFT b2b estoc [n
 ycnoise]
DTSTART:20260111T023000Z
DTEND:20260111T033000Z
UID:8dac8676-c324-4ba8-837f-6faed31212fc
CREATED:20260425T165040Z
DESCRIPTION:
LOCATION:paragon (990 broadway\, brooklyn)
END:VEVENT
END:VCALENDAR
