BEGIN:VCALENDAR
BEGIN:VEVENT
SUMMARY:Diamond CLUB: Dinamarca\, Manuka Honey\, DJPT + LYDO\, VILE [nycno
 ise]
DTSTART:20260125T023000Z
DTEND:20260125T033000Z
UID:63d5e36f-e49a-4594-9d17-964528992d6f
CREATED:20260425T165039Z
DESCRIPTION:
LOCATION:paragon (990 broadway\, brooklyn)
END:VEVENT
END:VCALENDAR
