BEGIN:VCALENDAR
BEGIN:VEVENT
SUMMARY:Tim Berne Saturday #2/5 [nycnoise]
DTSTART:20260110T230000Z
DTEND:20260111T000000Z
UID:5ad13815-727a-4856-8584-fcedd9b42065
CREATED:20260425T165039Z
DESCRIPTION:w/ Tom Rainey\, Gregg Belisle-Chi
LOCATION:barbès (376 9th st.\, brooklyn)
END:VEVENT
END:VCALENDAR
