BEGIN:VCALENDAR
BEGIN:VEVENT
SUMMARY:Tim Berne Saturday #3/5 [nycnoise]
DTSTART:20260117T230000Z
DTEND:20260118T000000Z
UID:8d5ee054-3437-493b-8e37-be1c3cfe4ef6
CREATED:20260425T165302Z
DESCRIPTION:w/ Tom Rainey\, Gregg Belisle-Chi\, John Hebert\, Keller Etēe
 l
LOCATION:barbès (376 9th st.\, brooklyn)
END:VEVENT
END:VCALENDAR
