BEGIN:VCALENDAR
BEGIN:VEVENT
SUMMARY:Tim Berne Saturday #4/5 [nycnoise]
DTSTART:20260124T230000Z
DTEND:20260125T000000Z
UID:9fff2dbf-058c-41cf-83b8-0a2d2ed463a3
CREATED:20260425T165301Z
DESCRIPTION:w/ Tom Rainey\, Gregg Belisle-Chi\, John Hebert
LOCATION:barbès (376 9th st.\, brooklyn)
END:VEVENT
END:VCALENDAR
