BEGIN:VCALENDAR
BEGIN:VEVENT
SUMMARY:Tim Berne Saturday #5/5 [nycnoise]
DTSTART:20260131T230000Z
DTEND:20260201T000000Z
UID:ae48f5fe-0860-479a-9bb1-75445c5734c9
CREATED:20260425T164846Z
DESCRIPTION:w/ Tom Rainey\, Gregg Belisle-Chi
LOCATION:barbès (376 9th st.\, brooklyn)
END:VEVENT
END:VCALENDAR
