BEGIN:VCALENDAR
BEGIN:VEVENT
SUMMARY:Kenny Warren's Sweet World [nycnoise]
DTSTART:20260128T000000Z
DTEND:20260128T010000Z
UID:7bf3f55d-b003-4c5a-9083-bab58ad304c5
CREATED:20260425T165039Z
DESCRIPTION:KW w/ Nathan Ellman-Bell\, Christopher Hoffman
LOCATION:barbès (376 9th st.\, brooklyn)
END:VEVENT
END:VCALENDAR
