BEGIN:VCALENDAR
BEGIN:VEVENT
SUMMARY:Abraham Gomez-Delgado's Zemog [nycnoise]
DTSTART:20260131T030000Z
DTEND:20260131T040000Z
UID:04272a8b-8bc9-4b93-8583-1ebbab89d5d9
CREATED:20260425T165141Z
DESCRIPTION:
LOCATION:barbès (376 9th st.\, brooklyn)
END:VEVENT
END:VCALENDAR
