BEGIN:VCALENDAR
BEGIN:VEVENT
SUMMARY:Shoko Nagai's TOKALA (w/ Satoshi Takeishi\, TBA) [nycnoise]
DTSTART:20260110T010000Z
DTEND:20260110T020000Z
UID:b8c489d9-5532-4c3e-8510-0486713d82d8
CREATED:20260425T164848Z
DESCRIPTION:
LOCATION:barbès (376 9th st.\, brooklyn)
END:VEVENT
END:VCALENDAR
